BEGIN:VCALENDAR
VERSION:2.0
PRODID:-//400 Chancen - ECPv5.10.0//NONSGML v1.0//EN
CALSCALE:GREGORIAN
METHOD:PUBLISH
X-WR-CALNAME:400 Chancen
X-ORIGINAL-URL:http://www.400chancen.de
X-WR-CALDESC:Veranstaltungen für 400 Chancen
BEGIN:VTIMEZONE
TZID:Europe/Berlin
BEGIN:DAYLIGHT
TZOFFSETFROM:+0100
TZOFFSETTO:+0200
TZNAME:CEST
DTSTART:20210328T010000
END:DAYLIGHT
BEGIN:STANDARD
TZOFFSETFROM:+0200
TZOFFSETTO:+0100
TZNAME:CET
DTSTART:20211031T010000
END:STANDARD
END:VTIMEZONE
BEGIN:VEVENT
DTSTART;TZID=Europe/Berlin:20211123T190000
DTEND;TZID=Europe/Berlin:20211123T190000
DTSTAMP:20260423T215015
CREATED:20201014T085740Z
LAST-MODIFIED:20211117T093713Z
UID:360-1637694000-1637694000@www.400chancen.de
SUMMARY:Abitur- und was dann?
DESCRIPTION:Berufswahl – eine Entscheidung für die Zukunft – LIVESTREAM\n \nSie machen sich Gedanken darüber\, welcher Weg für Ihr Kind nach dem Abitur der richtige sein wird?\n\n\n\n\n\n\n©Drobot Dean – stock.adobe.com \n\n\n\n\nDann möchten wir Sie herzlich am Dienstag\, den 23.11.2021 ab 19:00 Uhr zu unserem LIVESTREAM  „Abitur – und was dann?” einladen.\nBei dieser Gelegenheit möchten wir sowohl Eltern\, als auch Abiturienten\, bei ihren Überlegungen unterstützen und wichtige Denkanstöße für die berufliche Vielfalt geben.\n\nEinen exklusiven Impuls wird dabei Herr Prof. Dr. Friedrich Hubert Esser geben. Der Präsident des Bundesinstituts für Berufsbildung gibt Antworten auf die Frage Abitur – und was dann?\nAnschließend stellen ehemalige Abiturientinnen und Abiturienten praxisnah ihre beruflichen Wege vor. Diese sind individuell\, und zeigen\, dass ein bestimmter Schul­abschluss nicht zwingend “den einen” beruflichen Weg vorgeben muss.\n\nNäheres hierzu finden Sie auf www.DeineZukunft-DeineAusbildung.de.\n\nWir freuen uns auf Ihre Teilnahme!
URL:http://www.400chancen.de/event/abitur-und-was-dann/
LOCATION:IHK Ulm\, Online-Stream\, Ulm\, 89073
CATEGORIES:Eltern,Schüler/innen,Studienaussteiger/innen
ORGANIZER;CN="Silvia%20Geppert":MAILTO:geppert@ulm.ihk.de
END:VEVENT
END:VCALENDAR