BEGIN:VCALENDAR
VERSION:2.0
PRODID:-//400 Chancen - ECPv5.10.0//NONSGML v1.0//EN
CALSCALE:GREGORIAN
METHOD:PUBLISH
X-WR-CALNAME:400 Chancen
X-ORIGINAL-URL:http://www.400chancen.de
X-WR-CALDESC:Veranstaltungen für 400 Chancen
BEGIN:VTIMEZONE
TZID:Europe/Berlin
BEGIN:DAYLIGHT
TZOFFSETFROM:+0100
TZOFFSETTO:+0200
TZNAME:CEST
DTSTART:20230326T010000
END:DAYLIGHT
BEGIN:STANDARD
TZOFFSETFROM:+0200
TZOFFSETTO:+0100
TZNAME:CET
DTSTART:20231029T010000
END:STANDARD
END:VTIMEZONE
BEGIN:VEVENT
DTSTART;VALUE=DATE:20230323
DTEND;VALUE=DATE:20230324
DTSTAMP:20260423T185445
CREATED:20221221T084749Z
LAST-MODIFIED:20221221T093134Z
UID:687-1679529600-1679615999@www.400chancen.de
SUMMARY:Azubi-Speed-Dating Ulm
DESCRIPTION:Du suchst für September 2023 einen Ausbildungsplatz?\nMach deinen nächsten Zug! Bewirb dich jetzt fürs Azubi-Speed-Dating in Ulm.\n\n\n\n\n\n\n\nWarum solltest du beim Azubi-Speed-Dating mitmachen? \nGanz einfach:\n\nIn nur 10 Minuten führst du deine Vorstellungsgespräche durch.\nLebenslauf genügt\, keine Erstellung einer professionellen Bewerbungsmappe – du sparst damit Zeit!\nBegegne interessanten Unternehmen aus deiner Region.\nAn nur einem Tag lernst du diverse\, attraktive Ausbildungsberufe kennen.\n\n\nÜberzeugt?! – Motiviert?! – Dann melde dich verbindlich an:\n\n \n\nhttp://www.ihk.de/ulm/azubi-speed-dating \nDu hast noch Fragen oder benötigst weitere Informationen zum Azubi-Speed-Dating?\nDu benötigst Unterstützung bei der Vorbereitung auf die Vorstellungsgespräche?\nDann melde dich bei uns und ruf unter 0731 173-456 an.
URL:http://www.400chancen.de/event/azubi-speed-dating-ulm/
LOCATION:IHK Ulm\, Olgastr. 95 - 101\, Ulm\, 89073
ORGANIZER;CN="IHK%20Ulm":MAILTO:beratung@ulm.ihk.de
END:VEVENT
END:VCALENDAR