BEGIN:VCALENDAR
VERSION:2.0
PRODID:-//400 Chancen - ECPv5.10.0//NONSGML v1.0//EN
CALSCALE:GREGORIAN
METHOD:PUBLISH
X-WR-CALNAME:400 Chancen
X-ORIGINAL-URL:http://www.400chancen.de
X-WR-CALDESC:Veranstaltungen für 400 Chancen
BEGIN:VTIMEZONE
TZID:Europe/Berlin
BEGIN:DAYLIGHT
TZOFFSETFROM:+0100
TZOFFSETTO:+0200
TZNAME:CEST
DTSTART:20250330T010000
END:DAYLIGHT
BEGIN:STANDARD
TZOFFSETFROM:+0200
TZOFFSETTO:+0100
TZNAME:CET
DTSTART:20251026T010000
END:STANDARD
END:VTIMEZONE
BEGIN:VEVENT
DTSTART;TZID=Europe/Berlin:20251009T130000
DTEND;TZID=Europe/Berlin:20251009T160000
DTSTAMP:20260423T202958
CREATED:20250605T070616Z
LAST-MODIFIED:20250605T070616Z
UID:793-1760014800-1760025600@www.400chancen.de
SUMMARY:Azubi-Speed-Dating
DESCRIPTION:Du suchst noch einen Ausbildungsplatz und möchtest direkt ein Gespräch mit einem Personalverantwortlichen führen?\nMach deinen nächsten Zug! Melde dich jetzt fürs Azubi-Speed-Dating an.\nWarum solltest du beim Azubi-Speed-Dating mitmachen?\nGanz einfach:\n\nIn nur 10 Minuten führst du deine Vorstellungsgespräche durch.\nEin Lebenslauf genügt\, keine Erstellung einer professionellen Bewerbungsmappe – du sparst damit Zeit!\nBegegne interessanten Unternehmen aus deiner Region.\nAn nur einem Tag bewirbst du dich für diverse\, attraktive Ausbildungsberufe bei verschiedenen Unternehmen.\n\nWenn du angemeldet bist\, erhältst du vor der Veranstaltung eine Liste mit deinen persönlichen Gesprächsterminen per Mail. Du hast bei jedem Termin 10 Minuten Zeit\, den Personalverantwortlichen von dir zu überzeugen. Dieses Gespräch ist nur ein erstes Kennenlernen. Damit du diese Phase optimal meisterst\, haben wir folgende Tipps für dich:\nTipps: So kannst du dich vorbereiten\n\nInformiere dich gut über die Unternehmen\nWarum möchtest du gerade diesen Beruf erlernen?\nWarum möchtest du gerade bei diesem Unternehmen deine Ausbildung machen?\nWarum sollte das Unternehmen gerade dich einstellen und nicht jemand anderen?\nWorin liegen deine Stärken?\n\nNach deinen Gesprächen beim Azubi-Speed-Dating erhältst du per E-Mail von unseren MitarbeiterInnen ein Zertifikat\, das deine Teilnahme bescheinigt.\nDu hast noch Fragen oder benötigst Unterstützung bei der Vorbereitung auf die Vorstellungsgespräche?\nDu erreichst uns unter: beratung@ulm.ihk.de oder 0731/173-456
URL:http://www.400chancen.de/event/azubi-speed-dating/
LOCATION:IHK Ulm\, Online-Stream\, Ulm\, 89073
CATEGORIES:Schüler/innen,Studienaussteiger/innen
ORGANIZER;CN="IHK%20Ulm":MAILTO:beratung@ulm.ihk.de
END:VEVENT
END:VCALENDAR