BEGIN:VCALENDAR
VERSION:2.0
PRODID:-//400 Chancen - ECPv5.10.0//NONSGML v1.0//EN
CALSCALE:GREGORIAN
METHOD:PUBLISH
X-WR-CALNAME:400 Chancen
X-ORIGINAL-URL:http://www.400chancen.de
X-WR-CALDESC:Veranstaltungen für 400 Chancen
BEGIN:VTIMEZONE
TZID:Europe/Berlin
BEGIN:DAYLIGHT
TZOFFSETFROM:+0100
TZOFFSETTO:+0200
TZNAME:CEST
DTSTART:20200329T010000
END:DAYLIGHT
BEGIN:STANDARD
TZOFFSETFROM:+0200
TZOFFSETTO:+0100
TZNAME:CET
DTSTART:20201025T010000
END:STANDARD
END:VTIMEZONE
BEGIN:VEVENT
DTSTART;TZID=Europe/Berlin:20200730T140000
DTEND;TZID=Europe/Berlin:20200730T160000
DTSTAMP:20260423T233606
CREATED:20200117T154603Z
LAST-MODIFIED:20200623T114927Z
UID:97-1596117600-1596124800@www.400chancen.de
SUMMARY:Bewerbungsseminar in den Sommerferien
DESCRIPTION:Die Bewerbungsunterlagen sind DEINE Eintrittskarte\n  \n…zum Vorstellungsgespräch und für die bevorstehende Ausbildung oder das Duale Studium.\n  \nDaher ist es sehr wichtig\, dass Du aussagekräftige und individuelle Bewerbungsunterlagen erstellst und Dich passend im Vorstellungsgespräch präsentieren kannst.\n  \nBei der Vielzahl an Informationen und Möglichkeiten ist das nicht immer einfach: Damit du alle Hürden rund um das Thema Bewerbung erfolgreich meisterst\, bietet Dir die IHK Ulm\nOnline-Bewerbungsseminare in den Ferien an.  Das Seminar ist für Dich kostenfrei und findet von 14 bis 16 Uhr  statt.\n  \n\n  \n\nProfessionelle Referenten zeigen Dir Deine Möglichkeiten auf.
URL:http://www.400chancen.de/event/bewerbungsseminar-in-den-sommerferien/
LOCATION:IHK Ulm\, Online-Stream\, Ulm\, 89073
CATEGORIES:Schüler/innen
ATTACH;FMTTYPE=image/png:http://www.400chancen.de/wp-content/uploads/2020/01/Termin_Schueler_v4.png
ORGANIZER;CN="Kunigunde%20Licht":MAILTO:licht@ulm.ihk.de
END:VEVENT
END:VCALENDAR