BEGIN:VCALENDAR
VERSION:2.0
PRODID:-//400 Chancen - ECPv5.10.0//NONSGML v1.0//EN
CALSCALE:GREGORIAN
METHOD:PUBLISH
X-WR-CALNAME:400 Chancen
X-ORIGINAL-URL:http://www.400chancen.de
X-WR-CALDESC:Veranstaltungen für 400 Chancen
BEGIN:VTIMEZONE
TZID:UTC
BEGIN:STANDARD
TZOFFSETFROM:+0000
TZOFFSETTO:+0000
TZNAME:UTC
DTSTART:20200101T000000
END:STANDARD
END:VTIMEZONE
BEGIN:VEVENT
DTSTART;TZID=UTC:20200406T090000
DTEND;TZID=UTC:20200407T160000
DTSTAMP:20260424T012009
CREATED:20200108T095435Z
LAST-MODIFIED:20200417T094231Z
UID:61-1586163600-1586275200@www.400chancen.de
SUMMARY:Abgesagt: Bewerbungsseminar in den Osterferien
DESCRIPTION:Die Bewerbungsunterlagen sind DEINE Eintrittskarte\n  \n…zum Vorstellungsgespräch und für die bevorstehende Ausbildung oder das Duale Studium.\n  \nDaher ist es sehr wichtig\, dass Du aussagekräftige und individuelle Bewerbungsunterlagen erstellst und Dich passend im Vorstellungsgespräch präsentieren kannst.\n  \nBei der Vielzahl an Informationen und Möglichkeiten ist das nicht immer einfach: Damit du alle Hürden rund um das Thema Bewerbung erfolgreich meisterst\, bietet Dir die IHK Ulm zweitägige Bewerbungsseminare in den Ferien an.  Das Seminar ist für Dich kostenfrei und findet an beiden Tagen von 9 bis 16 Uhr in der IHK Ulm statt.\n  \n\n  \n\nProfessionelle Referenten zeigen Dir Deine Möglichkeiten auf. \n\n1. Tag: Wie erstelle ich aussagekräftige und individuelle Bewerbungsunterlagen?\n2. Tag: Hier geht es um Telefonate mit Betrieben und die optimale Präsentation im Vorstellungsgespräch.
URL:http://www.400chancen.de/event/bewerbungsseminar-ostern/
LOCATION:IHK Ulm\, Online-Stream\, Ulm\, 89073
CATEGORIES:Schüler/innen
ATTACH;FMTTYPE=image/png:http://www.400chancen.de/wp-content/uploads/2020/01/Termin_Schueler_v4.png
ORGANIZER;CN="Kunigunde%20Licht":MAILTO:licht@ulm.ihk.de
END:VEVENT
END:VCALENDAR