BEGIN:VCALENDAR
VERSION:2.0
PRODID:-//400 Chancen - ECPv5.10.0//NONSGML v1.0//EN
CALSCALE:GREGORIAN
METHOD:PUBLISH
X-WR-CALNAME:400 Chancen
X-ORIGINAL-URL:http://www.400chancen.de
X-WR-CALDESC:Veranstaltungen für 400 Chancen
BEGIN:VTIMEZONE
TZID:UTC
BEGIN:STANDARD
TZOFFSETFROM:+0000
TZOFFSETTO:+0000
TZNAME:UTC
DTSTART:20200101T000000
END:STANDARD
END:VTIMEZONE
BEGIN:VEVENT
DTSTART;TZID=UTC:20200604T140000
DTEND;TZID=UTC:20200604T160000
DTSTAMP:20260424T012009
CREATED:20200108T095245Z
LAST-MODIFIED:20200526T120538Z
UID:55-1591279200-1591286400@www.400chancen.de
SUMMARY:Bewerbungsseminar - online
DESCRIPTION:Die Bewerbungsunterlagen sind DEINE Eintrittskarte\n  \n…zum Vorstellungsgespräch und für die bevorstehende Ausbildung oder das Duale Studium.\n  \nDaher ist es sehr wichtig\, dass Du aussagekräftige und individuelle Bewerbungsunterlagen erstellst und Dich passend im Vorstellungsgespräch präsentieren kannst.\n  \nBei der Vielzahl an Informationen und Möglichkeiten ist das nicht immer einfach: Damit du alle Hürden rund um das Thema Bewerbung erfolgreich meisterst\, bietet Dir die IHK Ulm ein Online-Bewerbungsseminare in den Ferien an. Das Seminar ist für Dich kostenfrei und findet online von 14 bis 16 Uhr  statt.\n\nBitte sende Deine Bewerbungsunterlagen bis zum 3. Juni an Kunigunde Licht\, licht@ulm.ihk.de\n\nEine Dozentin des Seminars setzt sich daraufhin mit Dir telefonisch in Verbindung.
URL:http://www.400chancen.de/event/bewerbungsseminar-pfingsten/
CATEGORIES:Schüler/innen
ATTACH;FMTTYPE=image/png:http://www.400chancen.de/wp-content/uploads/2020/01/Termin_Schueler_v4.png
ORGANIZER;CN="Kunigunde%20Licht":MAILTO:licht@ulm.ihk.de
END:VEVENT
END:VCALENDAR