BEGIN:VCALENDAR
VERSION:2.0
PRODID:-//400 Chancen - ECPv5.10.0//NONSGML v1.0//EN
CALSCALE:GREGORIAN
METHOD:PUBLISH
X-WR-CALNAME:400 Chancen
X-ORIGINAL-URL:http://www.400chancen.de
X-WR-CALDESC:Veranstaltungen für 400 Chancen
BEGIN:VTIMEZONE
TZID:Europe/Berlin
BEGIN:DAYLIGHT
TZOFFSETFROM:+0100
TZOFFSETTO:+0200
TZNAME:CEST
DTSTART:20200329T010000
END:DAYLIGHT
BEGIN:STANDARD
TZOFFSETFROM:+0200
TZOFFSETTO:+0100
TZNAME:CET
DTSTART:20201025T010000
END:STANDARD
END:VTIMEZONE
BEGIN:VEVENT
DTSTART;VALUE=DATE:20200206
DTEND;VALUE=DATE:20200209
DTSTAMP:20260424T024815
CREATED:20200117T162751Z
LAST-MODIFIED:20200117T165007Z
UID:118-1580947200-1581206399@www.400chancen.de
SUMMARY:Bildungsmesse Ulm
DESCRIPTION:Donnerstag\, 6. Februar 2020\, 09 – 16 Uhr \nFreitag\, 7. Februar 2020\, 09 – 18 Uhr \nSamstag\, 8. Februar 2020\, 09 – 16 Uhr
URL:http://www.400chancen.de/event/bildungsmesse-ulm/
LOCATION:Ulm Messe\, Böfinger Straße 50\, Ulm\, 89073
CATEGORIES:Alle,Eltern,Lehrer/innen,Schüler/innen,Studienaussteiger/innen
ATTACH;FMTTYPE=image/jpeg:http://www.400chancen.de/wp-content/uploads/2020/01/Termin_alleZielgruppen_v3.jpg
END:VEVENT
END:VCALENDAR