BEGIN:VCALENDAR
VERSION:2.0
PRODID:-//400 Chancen - ECPv5.10.0//NONSGML v1.0//EN
CALSCALE:GREGORIAN
METHOD:PUBLISH
X-WR-CALNAME:400 Chancen
X-ORIGINAL-URL:http://www.400chancen.de
X-WR-CALDESC:Veranstaltungen für 400 Chancen
BEGIN:VTIMEZONE
TZID:Europe/Berlin
BEGIN:DAYLIGHT
TZOFFSETFROM:+0100
TZOFFSETTO:+0200
TZNAME:CEST
DTSTART:20210328T010000
END:DAYLIGHT
BEGIN:STANDARD
TZOFFSETFROM:+0200
TZOFFSETTO:+0100
TZNAME:CET
DTSTART:20211031T010000
END:STANDARD
END:VTIMEZONE
BEGIN:VEVENT
DTSTART;TZID=Europe/Berlin:20211011T130000
DTEND;TZID=Europe/Berlin:20211011T153000
DTSTAMP:20260423T215127
CREATED:20210909T082356Z
LAST-MODIFIED:20210909T084743Z
UID:476-1633957200-1633966200@www.400chancen.de
SUMMARY:Fachtag Schule & Wirtschaft 2021
DESCRIPTION:Wir laden alle interessierten Mitgliedsunternehmen\, Schulen und Netzwerkpartner herzlich zu unserem diesjährigen\n\nFachtag Schule & Wirtschaft 2021\nam Montag\, den 11.Oktober 2021\, 13:00 Uhr – 15:30 Uhr\nim Ludwig-Erhard-Saal der IHK Ulm\, Olgastraße 95 – 101\, 89073 Ulm ein. \n\nUnter dem Motto „Fachkräfte sichern – Wirtschaft stärken“ haben wir ein abwechslungsreiches Programm zusammengestellt\, um Ihnen Impulse für Ihre tägliche Arbeit mit jungen Menschen in Schule und Unternehmen zu geben. Außerdem beleuchten wir die Rolle der Eltern innerhalb der Berufsorientierung. Wie bei jedem Fachtag wird es genügend Raum für Ihren Ideen-und Erfahrungsaustausch geben.\nFür den Impulsvortrag „Pimp my Career! Eltern als Erfolgsgarant in der Berufsorientierung“ konnten wir den anerkannten Professor für Sozialwissenschaften und Forschungsmethodik an der Medical School in Hamburg\, Herrn Prof. Dr. Bührmann gewinnen. Zum Thema Coolnessfaktor Beruf wird Herr Dr. Frank von der IHK Ulm die Frage beantworten\, welche Berufe heute hip sind. Freuen Sie sich auf interessante Vorträge\, kommen Sie mit potentiellen Netzwerkpartnern ins Gespräch und tauschen Sie sich mit Kollegen aus.\n\nWir freuen uns\, wenn wir Sie zum Fachtag Schule & Wirtschaft 2021 begrüßen dürfen.\nDie Möglichkeit zur Anmeldung finden Sie hier: https://events.ulm.ihk24.de/fachtagschulewirtschaft\n\nBei weiteren Fragen können Sie sich gerne an die Ansprechpartnerin der IHK Ulm wenden:\nCarolin Philipp\nBildungsnetzwerk Schule/Wirtschaft\nIHK Ulm\nOlgastr. 95 – 101\n89073 Ulm\nTel.: 0731 173-381\nFax: 0731 173-5381\nE-Mail: philipp@ulm.ihk.de\n\nHinweis: Bitte beachten Sie\, dass Sie bei Symptomen von Covid-19 in den letzten drei Tagen (zum Beispiel Fieber\, trockener Husten\, Halsschmerzen\, Verlust des Geruchs- oder\nGeschmackssinns\, Atemprobleme) oder wenn Sie innerhalb der letzten 14 Tage persönlichen Kontakt zu einer mit dem Virus SARS-CoV-2 infizierten Person hatten\, das IHK-Gebäude nicht betreten und an keinen IHK-Veranstaltungen teilnehmen dürfen.
URL:http://www.400chancen.de/event/fachtag-schule-wirtschaft-2021/
LOCATION:IHK Ulm\, Online-Stream\, Ulm\, 89073
END:VEVENT
END:VCALENDAR