BEGIN:VCALENDAR
VERSION:2.0
PRODID:-//400 Chancen - ECPv5.10.0//NONSGML v1.0//EN
CALSCALE:GREGORIAN
METHOD:PUBLISH
X-WR-CALNAME:400 Chancen
X-ORIGINAL-URL:http://www.400chancen.de
X-WR-CALDESC:Veranstaltungen für 400 Chancen
BEGIN:VTIMEZONE
TZID:Europe/Berlin
BEGIN:DAYLIGHT
TZOFFSETFROM:+0100
TZOFFSETTO:+0200
TZNAME:CEST
DTSTART:20220327T010000
END:DAYLIGHT
BEGIN:STANDARD
TZOFFSETFROM:+0200
TZOFFSETTO:+0100
TZNAME:CET
DTSTART:20221030T010000
END:STANDARD
END:VTIMEZONE
BEGIN:VEVENT
DTSTART;TZID=Europe/Berlin:20221010T123000
DTEND;TZID=Europe/Berlin:20221010T123000
DTSTAMP:20260423T202306
CREATED:20220905T091646Z
LAST-MODIFIED:20220905T091646Z
UID:642-1665405000-1665405000@www.400chancen.de
SUMMARY:Fachtag Schule & Wirtschaft 2022
DESCRIPTION:Wir laden alle interessierten Mitgliedsunternehmen\, Schulen und Netzwerkpartner herzlich zu unserem diesjährigen\n\nFachtag Schule & Wirtschaft 2022\nam Montag\, den 10. Oktober 2022\, 12:30 Uhr – 16:00 Uhr\nim Ludwig-Erhard-Saal der IHK Ulm\, Olgastraße 95 – 101\, 89073 Ulm ein.\n\nUnter dem Motto „Menschen befähigen – Wirtschaft stärken“ haben wir ein Programm zusammengestellt\, um Ihnen Impulse für Ihre tägliche Arbeit mit jungen Menschen in Schule und Wirtschaftsunternehmen zu geben. Wie bei jedem Fachtag wird es daneben genügend Raum für Ihren Ideen- und Erfahrungsaustausch geben. \n\n\nFür den Impulsvortrag  „Digital Natives – catch them if you can“ konnten wir den Erfolgsautor und Digitalen Experten Philipp Riederle gewinnen. Er selbst ist 27 Jahre alt und ein Vertreter der so genannten Millennials. Mit 13 Jahren startete er seinen ersten Podcast\, mit seinen Youtube-Videos über das iPhone wurde er wenig später deutschlandweit bekannt. Heute ist der junge Mann Digitaler Experte und erklärt als Redner\, wie die „Generation Internet“ tickt. Als Bestseller-Autor\, Keynote-Speaker und Berater baut er Brücken zu den Generationen Y und Z. Von der Deutschen Bundesregierung wurde er als „Führender Digitaler Kopf“ ausgezeichnet. \n\n\n\nProgramm  \n\n\n12:30 Uhr      Ankommen & Imbiss\n\n\n\n13:00 Uhr      Begrüßung Martina Doleghs\, Mitglied der Geschäftsleitung Bildung\, IHK Ulm \n13:15 Uhr       Impulsvortrag „Digital Natives – catch them if you can“\,\nPhilipp Riederle\, Bestseller- Autor\, Unternehmensberater\, Keynot-Speaker\, Digitaler Experte und Vertreter der „Digital Natives“ \n14:30 Uhr      Pause mit „Markt der Möglichkeiten“\n\n15:00 Uhr      Parallele Workshops: \n\nWorkshop I: Was heißt das nun konkret? \nKreatives Recruiting der Generation Z\nHeike Nannt\, Personalcoach\, Personalentwicklung\, Organisations-\nentwicklung\, Lehrbeauftragte und Dozentin\nWorkshop II: Best Practice in Bildungspartnerschaften –\nwie Sie Ihre Kooperation zum Erfolg bringen?\nDr. Stephanie Würfl\, SÜDPACK Verpackungen GmbH & Co. KG\nund Silvia Geppert\, IHK Ulm\n\n16:00 Uhr:  Gemeinsamer Abschluss  \n\n\n\nWorkshops:\nNach dem Vortrag finden parallel zwei Workshops statt. Bitte wählen Sie einen aus und geben Sie dies in Ihrer Anmeldung an:\nhttps://events.ulm.ihk24.de/fachtagschulewirtschaft2022.\nBesonderes Highlight – “Markt der Möglichkeiten”\n\nSie haben ein Projekt oder ein Kooperationsangebot\, worüber Sie sich austauschen wollen? Der Markt der Möglichkeiten bietet Ihnen die Möglichkeit dazu. Bringen Sie Infomaterial mit und eröffnen Sie einen „Treffpunkt“.\n\nTeilnahmebedingungen:\nDie Teilnahme an der Veranstaltung ist kostenfrei.\n\nAnmeldeschluss:\n30. September 2022\n\nBei weiteren Fragen können Sie sich gerne an die Ansprechpartnerin der IHK Ulm wenden:\nCarolin Philipp\nBildungsnetzwerk Schule/Wirtschaft\nIHK Ulm\nOlgastr. 95 – 101\n89073 Ulm\nTel.: 0731 173-381\nFax: 0731 173-5381\nE-Mail: philipp@ulm.ihk.de
URL:http://www.400chancen.de/event/fachtag-schule-wirtschaft-2022/
LOCATION:IHK Ulm\, Online-Stream\, Ulm\, 89073
ORGANIZER;CN="Silvia%20Geppert":MAILTO:geppert@ulm.ihk.de
END:VEVENT
END:VCALENDAR