BEGIN:VCALENDAR
VERSION:2.0
PRODID:-//400 Chancen - ECPv5.10.0//NONSGML v1.0//EN
CALSCALE:GREGORIAN
METHOD:PUBLISH
X-WR-CALNAME:400 Chancen
X-ORIGINAL-URL:http://www.400chancen.de
X-WR-CALDESC:Veranstaltungen für 400 Chancen
BEGIN:VTIMEZONE
TZID:Europe/Berlin
BEGIN:DAYLIGHT
TZOFFSETFROM:+0100
TZOFFSETTO:+0200
TZNAME:CEST
DTSTART:20200329T010000
END:DAYLIGHT
BEGIN:STANDARD
TZOFFSETFROM:+0200
TZOFFSETTO:+0100
TZNAME:CET
DTSTART:20201025T010000
END:STANDARD
END:VTIMEZONE
BEGIN:VEVENT
DTSTART;TZID=Europe/Berlin:20200306T090000
DTEND;TZID=Europe/Berlin:20200306T170000
DTSTAMP:20260423T232818
CREATED:20200117T150415Z
LAST-MODIFIED:20200417T100348Z
UID:90-1583485200-1583514000@www.400chancen.de
SUMMARY:Abgesagt: Future4you Biberach
DESCRIPTION:Am 6. März 2020 findet wieder von 9 bis 17 Uhr die Messe mit wertvollen Tipps und Angeboten für Ausbildung und Studium\, in der Paul-Heckmann-Kreissporthalle (BSZ) statt.
URL:http://www.400chancen.de/event/future4you-biberach/
LOCATION:Paul-Heckmann-Halle (BSZ)\, Leipzigstraße 7\, Biberach an der Riß\, 88400
CATEGORIES:Schüler/innen,Studienaussteiger/innen
ATTACH;FMTTYPE=image/png:http://www.400chancen.de/wp-content/uploads/2020/01/Termin_Schueler_v4.png
END:VEVENT
END:VCALENDAR