BEGIN:VCALENDAR
VERSION:2.0
PRODID:-//400 Chancen - ECPv5.10.0//NONSGML v1.0//EN
CALSCALE:GREGORIAN
METHOD:PUBLISH
X-WR-CALNAME:400 Chancen
X-ORIGINAL-URL:http://www.400chancen.de
X-WR-CALDESC:Veranstaltungen für 400 Chancen
BEGIN:VTIMEZONE
TZID:UTC
BEGIN:STANDARD
TZOFFSETFROM:+0000
TZOFFSETTO:+0000
TZNAME:UTC
DTSTART:20200101T000000
END:STANDARD
END:VTIMEZONE
BEGIN:VEVENT
DTSTART;TZID=UTC:20200429T130000
DTEND;TZID=UTC:20200429T170000
DTSTAMP:20260423T233600
CREATED:20200108T094123Z
LAST-MODIFIED:20200417T100244Z
UID:42-1588165200-1588179600@www.400chancen.de
SUMMARY:Abgesagt: IHK-Azubi-Speed-Dating
DESCRIPTION:Du suchst für den Ausbildungsbeginn im Herbst 2020 eine Ausbildungsstelle und möchtest auch ohne Bewerbung ein Gespräch mit einem Personalverantwortlichen führen?\n  \n\nDann mach mit beim IHK-Azubi-Speed-Dating! Die Erfahrungen der vergangenen Veranstaltungen zeigen\, dass du mit einem guten Auftreten deine Chancen stark erhöhen kannst! Bisher gab es bei jedem Azubi-Speed-Dating\, das die IHK Ulm veranstaltet hat\, Vertragsabschlüsse.\n  \n\n\nEine Anmeldung ist erforderlich! Das Anmeldeformular findest du auf der rechten Seite.\nBitte melde dich mit deinem Lebenslauf und deinen Berufswünschen per E-Mail bei Leonie Kleiner\, leonie.kleiner@ulm.ihk.de an.
URL:http://www.400chancen.de/event/ihk-azubi-speed-dating/
LOCATION:IHK Ulm\, Olgastr. 95 - 101\, Ulm\, 89073
CATEGORIES:Schüler/innen
ATTACH;FMTTYPE=image/png:http://www.400chancen.de/wp-content/uploads/2020/01/Termin_Schueler_v4.png
ORGANIZER;CN="Leonie%20Kleiner":MAILTO:leonie.kleiner@ulm.ihk.de
END:VEVENT
END:VCALENDAR