BEGIN:VCALENDAR
VERSION:2.0
PRODID:-//400 Chancen - ECPv5.10.0//NONSGML v1.0//EN
CALSCALE:GREGORIAN
METHOD:PUBLISH
X-WR-CALNAME:400 Chancen
X-ORIGINAL-URL:http://www.400chancen.de
X-WR-CALDESC:Veranstaltungen für 400 Chancen
BEGIN:VTIMEZONE
TZID:Europe/Berlin
BEGIN:DAYLIGHT
TZOFFSETFROM:+0100
TZOFFSETTO:+0200
TZNAME:CEST
DTSTART:20230326T010000
END:DAYLIGHT
BEGIN:STANDARD
TZOFFSETFROM:+0200
TZOFFSETTO:+0100
TZNAME:CET
DTSTART:20231029T010000
END:STANDARD
END:VTIMEZONE
BEGIN:VEVENT
DTSTART;VALUE=DATE:20231016
DTEND;VALUE=DATE:20231104
DTSTAMP:20260423T205719
CREATED:20230707T084900Z
LAST-MODIFIED:20230707T085144Z
UID:766-1697414400-1699055999@www.400chancen.de
SUMMARY:Praktikumswochen Baden-Württemberg
DESCRIPTION:Unternehmen und Schüler:innen lernen sich in einem eintägigen Schnupperpraktikum kennen. Die Schüler:innen wechseln den eigenen Wünschen entsprechend täglich die Unternehmen und  sammeln Erfahrungen in verschiedenen Berufen. Wie viele Praktikumstage dabei absolbiert werden\, ist ganz der Schülerin oder dem Schüler überlassen. \nWann: Herbstferien + zwei davor liegende Schulwochen \nWer: Unternehmen & interessierte Schüler:innen ab 15 Jahren \nWeitere Informationen findest du hier. \nFlyer Praktikumswoche Baden-Württemberg
URL:http://www.400chancen.de/event/praktikumswochen-baden-wuerttemberg/
LOCATION:Unternehmen der Region
CATEGORIES:Lehrer/innen,Schüler/innen
ATTACH;FMTTYPE=image/png:http://www.400chancen.de/wp-content/uploads/2023/07/pw-bw-mailsignatur-schueler.png
END:VEVENT
END:VCALENDAR