BEGIN:VCALENDAR
VERSION:2.0
PRODID:-//400 Chancen - ECPv5.10.0//NONSGML v1.0//EN
CALSCALE:GREGORIAN
METHOD:PUBLISH
X-WR-CALNAME:400 Chancen
X-ORIGINAL-URL:http://www.400chancen.de
X-WR-CALDESC:Veranstaltungen für 400 Chancen
BEGIN:VTIMEZONE
TZID:Europe/Berlin
BEGIN:DAYLIGHT
TZOFFSETFROM:+0100
TZOFFSETTO:+0200
TZNAME:CEST
DTSTART:20230326T010000
END:DAYLIGHT
BEGIN:STANDARD
TZOFFSETFROM:+0200
TZOFFSETTO:+0100
TZNAME:CET
DTSTART:20231029T010000
END:STANDARD
END:VTIMEZONE
BEGIN:VEVENT
DTSTART;VALUE=DATE:20230209
DTEND;VALUE=DATE:20230210
DTSTAMP:20260423T190421
CREATED:20221219T112058Z
LAST-MODIFIED:20221219T112356Z
UID:664-1675900800-1675987199@www.400chancen.de
SUMMARY:Ulmer Bildungsmesse
DESCRIPTION:Auf der Suche nach einem Ausbildungs- oder Studienplatz? \nDie Ulmer Bildungsmesse bietet Informationen rund um die Themen Schule\, Ausbildung\, Studium und Weiterbildung. In 7 Hallen präsentieren sich 270 Aussteller/-innen mit über 1000 Bildungsangeboten. Und das haben wir noch für dich: \n\nFachvorträge mit Tipps zur Bewerbung\, für das Vorstellungsgespräch\, für den Eignungstest und noch viel mehr.\nBerufs-Kurzpräsentationen mit zahlreichen Informationen zu Ausbildungsberufen und Studiengängen.\nKostenfreier Bewerbermappencheck & Bewerbungsberatung\n\n \nDie Bildungsmesse findet auf dem Ulmer Messegelände statt. Der Eintritt ist frei. \nDie Ulmer Bildungsmesse wird alle zwei Jahre von der Stadt Ulm in Kooperation mit der IHK Ulm veranstaltet. Die nächste Messe findet vom 9.-11. Februar 2023 statt\, danach wieder 2025. \n\nMach dich schlau und erstelle dir deinen persönlichen Messefahrplan unter:\nwww.bildungsmesse-ulm.de \nAnsprechpartnerinnen für Fragen: \nSandra Rau-Radtke\, rau-radtke@ulm.ihk.de \nSonja Ukkat\, ukkat@ulm.ihk.de
URL:http://www.400chancen.de/event/ulmer-bildungsmesse/
LOCATION:Ulm Messe\, Böfinger Straße 50\, Ulm\, 89073
ORGANIZER;CN="IHK%20Ulm":MAILTO:ukkat@ulm.ihk.de
END:VEVENT
END:VCALENDAR